BEGIN:VCALENDAR
VERSION:2.0
PRODID:-//Plone.org//NONSGML plone.app.event//EN
X-WR-TIMEZONE:Europe/Madrid
BEGIN:VEVENT
SUMMARY:Esdeveniment de mostra 2
DTSTART;TZID=Europe/Madrid:20210302T080000
DTEND;TZID=Europe/Madrid:20610220T080000
DTSTAMP:20260421T030356Z
UID:fd2eca43f9bf4229b1e4271c9e54817f@ifluids.upc.edu
CONTACT:Responsable esdeveniment\, adreca@noreply.com
CREATED:20210302T075749Z
LAST-MODIFIED:20210302T075749Z
LOCATION:Lloc de l'esdeveniment
URL:https://ifluids.upc.edu/ca/esdeveniments/esdeveniment-de-mostra-2
END:VEVENT
BEGIN:VTIMEZONE
TZID:Europe/Madrid
X-LIC-LOCATION:Europe/Madrid
BEGIN:STANDARD
DTSTART:20201025T020000
TZNAME:CET
TZOFFSETFROM:+0200
TZOFFSETTO:+0100
END:STANDARD
BEGIN:STANDARD
DTSTART:20371025T020000
TZNAME:CET
TZOFFSETFROM:+0200
TZOFFSETTO:+0100
END:STANDARD
END:VTIMEZONE
END:VCALENDAR
